BEGIN:VCALENDAR
PRODID:69e7462246c62
VERSION:2.0
METHOD:PUBLISH
BEGIN:VEVENT
DTSTART:20260505T220000
DTEND:20260507T220000
LOCATION:
TRANSP:OPAQUE
SEQUENCE:0
UID:69e7462246c62
DTSTAMP:20260421T094050Z
SUMMARY:OT Cyber Security Hackathon 2026
DESCRIPTION:
PRIORITY:1
CLASS:PUBLIC
BEGIN:VALARM
TRIGGER:-PT10080M
ACTION:DISPLAY
DESCRIPTION:
END:VALARM
END:VEVENT
END:VCALENDAR
