BEGIN:VCALENDAR
PRODID:69e584c50ebff
VERSION:2.0
METHOD:PUBLISH
BEGIN:VEVENT
DTSTART:20260423T060000
DTEND:20260423T153000
LOCATION:
TRANSP:OPAQUE
SEQUENCE:0
UID:69e584c50ebff
DTSTAMP:20260420T014333Z
SUMMARY:SecurityDay Hamburg 2026
DESCRIPTION:
PRIORITY:1
CLASS:PUBLIC
BEGIN:VALARM
TRIGGER:-PT10080M
ACTION:DISPLAY
DESCRIPTION:
END:VALARM
END:VEVENT
END:VCALENDAR
