BEGIN:VCALENDAR
PRODID:69e6e952a754f
VERSION:2.0
METHOD:PUBLISH
BEGIN:VEVENT
DTSTART:20241213T090000
DTEND:20241213T100000
LOCATION:
TRANSP:OPAQUE
SEQUENCE:0
UID:69e6e952a754f
DTSTAMP:20260421T030450Z
SUMMARY:WebCast: Netzwerkautomatisierung konkret: Grundlagen und Orientierungshilfe
DESCRIPTION:
PRIORITY:1
CLASS:PUBLIC
BEGIN:VALARM
TRIGGER:-PT10080M
ACTION:DISPLAY
DESCRIPTION:
END:VALARM
END:VEVENT
END:VCALENDAR
