BEGIN:VCALENDAR
PRODID:69e6e4e02cd38
VERSION:2.0
METHOD:PUBLISH
BEGIN:VEVENT
DTSTART:20230928T090000
LOCATION:
TRANSP:OPAQUE
SEQUENCE:0
UID:69e6e4e02cd38
DTSTAMP:20260421T024552Z
SUMMARY:WebCast: Stärkung der IT-Sicherheit in der Gesundheitsbranche: SOC-Services für Krankenhäuser
DESCRIPTION:Mit unserem ISO 27001 und ISO 9001 zertifizierten IT/OT Security Operations Center (SOC) unterstützen wir Sie von der Konzeption, über die Implementierung und dem Einsatz bis hin zum laufenden Betrieb Ihres SOC.
PRIORITY:1
CLASS:PUBLIC
BEGIN:VALARM
TRIGGER:-PT10080M
ACTION:DISPLAY
DESCRIPTION:Mit unserem ISO 27001 und ISO 9001 zertifizierten IT/OT Security Operations Center (SOC) unterstützen wir Sie von der Konzeption, über die Implementierung und dem Einsatz bis hin zum laufenden Betrieb Ihres SOC.
END:VALARM
END:VEVENT
END:VCALENDAR
