BEGIN:VCALENDAR
PRODID:69e6e6358f250
VERSION:2.0
METHOD:PUBLISH
BEGIN:VEVENT
DTSTART:20231010T070000
DTEND:20231012T150000
LOCATION:
TRANSP:OPAQUE
SEQUENCE:0
UID:69e6e6358f250
DTSTAMP:20260421T025133Z
SUMMARY:it-sa 2023: Ihre SecurITy & SecurOTy in besten Händen
DESCRIPTION:Blicken Sie mit uns auf der it-sa in Halle 7, Stand 151, durch die IT/OT-Brille - seien Sie dabei, wenn wir gemeinsam die Zukunft der Cybersicherheit gestalten!
PRIORITY:1
CLASS:PUBLIC
BEGIN:VALARM
TRIGGER:-PT10080M
ACTION:DISPLAY
DESCRIPTION:Blicken Sie mit uns auf der it-sa in Halle 7, Stand 151, durch die IT/OT-Brille - seien Sie dabei, wenn wir gemeinsam die Zukunft der Cybersicherheit gestalten!
END:VALARM
END:VEVENT
END:VCALENDAR
