BEGIN:VCALENDAR
PRODID:69ea37a7c13b5
VERSION:2.0
METHOD:PUBLISH
BEGIN:VEVENT
DTSTART:20230504T140000
LOCATION:
TRANSP:OPAQUE
SEQUENCE:0
UID:69ea37a7c13b5
DTSTAMP:20260423T151551Z
SUMMARY:WebCast: LPAR Deployment &amp; Management: Quick, Easy, Automated
DESCRIPTION:LPAR Deployment &amp; Management: Quick, Easy, Automated
PRIORITY:1
CLASS:PUBLIC
BEGIN:VALARM
TRIGGER:-PT10080M
ACTION:DISPLAY
DESCRIPTION:LPAR Deployment &amp; Management: Quick, Easy, Automated
END:VALARM
END:VEVENT
END:VCALENDAR
