BEGIN:VCALENDAR
PRODID:69e8418628cb8
VERSION:2.0
METHOD:PUBLISH
BEGIN:VEVENT
DTSTART:20230125T140000
DTEND:20230125T150000
LOCATION:
TRANSP:OPAQUE
SEQUENCE:0
UID:69e8418628cb8
DTSTAMP:20260422T033326Z
SUMMARY:What’s new with Microsoft Device Management (SCCM, intune) and Axanto (in english )
DESCRIPTION:
PRIORITY:1
CLASS:PUBLIC
BEGIN:VALARM
TRIGGER:-PT10080M
ACTION:DISPLAY
DESCRIPTION:
END:VALARM
END:VEVENT
END:VCALENDAR
