BEGIN:VCALENDAR
PRODID:69ea7b65a8898
VERSION:2.0
METHOD:PUBLISH
BEGIN:VEVENT
DTSTART:20221129T230000
LOCATION:
TRANSP:OPAQUE
SEQUENCE:0
UID:69ea7b65a8898
DTSTAMP:20260423T200453Z
SUMMARY:Axians SAP CX User Group: Wir laden Sie zum Austausch ein
DESCRIPTION:Als Mitglied unserer Axians SAP CX User Group haben Sie die Möglichkeit, sich mit anderen SAP-Anwenderunternehmen, die bereits CX-Systemkomponenten eingeführt haben, zu Ihren aktuellen CRM-Themen auszutauschen!
PRIORITY:1
CLASS:PUBLIC
BEGIN:VALARM
TRIGGER:-PT10080M
ACTION:DISPLAY
DESCRIPTION:Als Mitglied unserer Axians SAP CX User Group haben Sie die Möglichkeit, sich mit anderen SAP-Anwenderunternehmen, die bereits CX-Systemkomponenten eingeführt haben, zu Ihren aktuellen CRM-Themen auszutauschen!
END:VALARM
END:VEVENT
END:VCALENDAR
